BEGIN:VCALENDAR
VERSION:2.0
PRODID:-//L&#039;Abri - ECPv6.15.12.2//NONSGML v1.0//EN
CALSCALE:GREGORIAN
METHOD:PUBLISH
X-WR-CALNAME:L&#039;Abri
X-ORIGINAL-URL:https://australianlabri.org
X-WR-CALDESC:Events for L&#039;Abri
REFRESH-INTERVAL;VALUE=DURATION:PT1H
X-Robots-Tag:noindex
X-PUBLISHED-TTL:PT1H
BEGIN:VTIMEZONE
TZID:Australia/Brisbane
BEGIN:STANDARD
TZOFFSETFROM:+1000
TZOFFSETTO:+1000
TZNAME:AEST
DTSTART:20250101T000000
END:STANDARD
END:VTIMEZONE
BEGIN:VEVENT
DTSTART;TZID=Australia/Brisbane:20260328T120000
DTEND;TZID=Australia/Brisbane:20260328T140000
DTSTAMP:20260420T024350
CREATED:20260304T115227Z
LAST-MODIFIED:20260304T115227Z
UID:725-1774699200-1774706400@australianlabri.org
SUMMARY:Open Table Lunch Discussion
DESCRIPTION:Join us for a simple meal and discussion in our home. \nCome as you are to engage honestly and if you like ask a question or raise a topic to discuss.
URL:https://australianlabri.org/event/open-table-lunch-discussion-4/
LOCATION:The Pacholkes home\, Toowong\, Queensland\, 4066\, Australia
ATTACH;FMTTYPE=image/jpeg:https://australianlabri.org/wp-content/uploads/2025/12/dining_lamp_sq-scaled.jpg
ORGANIZER;CN="RSVP L'Abri Brisbane":MAILTO:labribrisbane@gmail.com
END:VEVENT
BEGIN:VEVENT
DTSTART;TZID=Australia/Brisbane:20260318T190000
DTEND;TZID=Australia/Brisbane:20260318T210000
DTSTAMP:20260420T024350
CREATED:20260128T004450Z
LAST-MODIFIED:20260128T004450Z
UID:709-1773860400-1773867600@australianlabri.org
SUMMARY:Explore Ideas – Talk & Discussion
DESCRIPTION:Join us for an evening exploring an idea\, with open discussion\, Q&A and light supper. \nThese times are safe spaces to explore together an idea and how the Christian faith informs and sheds light on that idea.
URL:https://australianlabri.org/event/explore-ideas-talk-discussion-2/
LOCATION:The Pacholkes home\, Toowong\, Queensland\, 4066\, Australia
ATTACH;FMTTYPE=image/jpeg:https://australianlabri.org/wp-content/uploads/2025/12/dining_tea_candle_sq-scaled.jpg
ORGANIZER;CN="L'Abri Brisbane":MAILTO:labribrisbane@gmail.com
END:VEVENT
BEGIN:VEVENT
DTSTART;TZID=Australia/Brisbane:20260314T120000
DTEND;TZID=Australia/Brisbane:20260314T140000
DTSTAMP:20260420T024350
CREATED:20260128T005108Z
LAST-MODIFIED:20260128T005308Z
UID:711-1773489600-1773496800@australianlabri.org
SUMMARY:Open Table Lunch Discussion
DESCRIPTION:Join us for a simple meal and discussion in our home. \nCome as you are to engage honestly and if you like ask a question or raise a topic to discuss.
URL:https://australianlabri.org/event/open-table-lunch-discussion-2/
LOCATION:The Pacholkes home\, Toowong\, Queensland\, 4066\, Australia
ATTACH;FMTTYPE=image/jpeg:https://australianlabri.org/wp-content/uploads/2025/12/dining_lamp_sq-scaled.jpg
ORGANIZER;CN="L'Abri Brisbane":MAILTO:labribrisbane@gmail.com
END:VEVENT
BEGIN:VEVENT
DTSTART;TZID=Australia/Brisbane:20260226T160000
DTEND;TZID=Australia/Brisbane:20260301T120000
DTSTAMP:20260420T024350
CREATED:20251203T071411Z
LAST-MODIFIED:20260128T002810Z
UID:636-1772121600-1772366400@australianlabri.org
SUMMARY:Theme Weekend Taster
DESCRIPTION:A taste of shelter in residential community. \nThese weekends are multiple-day community based retreats\, with quiet reflection\, short talks\, group discussions and meals in a beautiful location.
URL:https://australianlabri.org/event/theme-weekend-taster/
LOCATION:Figtrees on Watson\, 78 Watson Ln\, Reeseville\, Queensland\, 4552\, Australia
ATTACH;FMTTYPE=image/jpeg:https://australianlabri.org/wp-content/uploads/2025/12/IMG_20250221_180123166_sq_smaller.jpg
ORGANIZER;CN="L'Abri Brisbane":MAILTO:labribrisbane@gmail.com
END:VEVENT
BEGIN:VEVENT
DTSTART;TZID=Australia/Brisbane:20260211T190000
DTEND;TZID=Australia/Brisbane:20260211T210000
DTSTAMP:20260420T024350
CREATED:20251203T071553Z
LAST-MODIFIED:20260128T004114Z
UID:630-1770836400-1770843600@australianlabri.org
SUMMARY:Explore Ideas - Talk & Discussion
DESCRIPTION:Join us for an evening exploring an idea\, with open discussion\, Q&A and light supper. \nThese times are safe spaces to explore together an idea and how the Christian faith informs and sheds light on that idea. \nOn this night Jared Power will talk with us about the story shape to existence and resources for connecting Christian contemplation with activity in different spheres of life.
URL:https://australianlabri.org/event/explore-ideas-talk-discussion/
LOCATION:The Pacholkes home\, Toowong\, Queensland\, 4066\, Australia
ATTACH;FMTTYPE=image/jpeg:https://australianlabri.org/wp-content/uploads/2025/12/dining_tea_candle_sq-scaled.jpg
ORGANIZER;CN="L'Abri Brisbane":MAILTO:labribrisbane@gmail.com
END:VEVENT
BEGIN:VEVENT
DTSTART;TZID=Australia/Brisbane:20260131T120000
DTEND;TZID=Australia/Brisbane:20260131T143000
DTSTAMP:20260420T024350
CREATED:20251203T080948Z
LAST-MODIFIED:20251205T042824Z
UID:621-1769860800-1769869800@australianlabri.org
SUMMARY:Open Table Lunch Discussion
DESCRIPTION:Join us for a simple meal and discussion in our home. \nCome as you are to engage honestly and if you like ask a question or raise a topic to discuss.
URL:https://australianlabri.org/event/open-table-lunch-discussion/
LOCATION:The Pacholkes home\, Toowong\, Queensland\, 4066\, Australia
ATTACH;FMTTYPE=image/jpeg:https://australianlabri.org/wp-content/uploads/2025/12/dining_lamp_sq-scaled.jpg
ORGANIZER;CN="L'Abri Brisbane":MAILTO:labribrisbane@gmail.com
END:VEVENT
END:VCALENDAR