BEGIN:VCALENDAR
VERSION:2.0
PRODID:-//L&#039;Abri - ECPv6.15.12.2//NONSGML v1.0//EN
CALSCALE:GREGORIAN
METHOD:PUBLISH
X-ORIGINAL-URL:https://australianlabri.org
X-WR-CALDESC:Events for L&#039;Abri
REFRESH-INTERVAL;VALUE=DURATION:PT1H
X-Robots-Tag:noindex
X-PUBLISHED-TTL:PT1H
BEGIN:VTIMEZONE
TZID:Australia/Brisbane
BEGIN:STANDARD
TZOFFSETFROM:+1000
TZOFFSETTO:+1000
TZNAME:AEST
DTSTART:20250101T000000
END:STANDARD
END:VTIMEZONE
BEGIN:VEVENT
DTSTART;TZID=Australia/Brisbane:20260425T120000
DTEND;TZID=Australia/Brisbane:20260425T140000
DTSTAMP:20260419T230345
CREATED:20260304T025734Z
LAST-MODIFIED:20260304T025734Z
UID:723-1777118400-1777125600@australianlabri.org
SUMMARY:Open Table Lunch Discussion
DESCRIPTION:Join us for a simple meal and discussion in our home. \nCome as you are to engage honestly and if you like ask a question or raise a topic to discuss.
URL:https://australianlabri.org/event/open-table-lunch-discussion-3/
LOCATION:The Pacholkes home\, Toowong\, Queensland\, 4066\, Australia
ATTACH;FMTTYPE=image/jpeg:https://australianlabri.org/wp-content/uploads/2025/12/dining_lamp_sq-scaled.jpg
ORGANIZER;CN="RSVP L'Abri Brisbane":MAILTO:labribrisbane@gmail.com
END:VEVENT
END:VCALENDAR